View In:
ArcGIS JavaScript
ArcGIS Online Map Viewer
ArcGIS Earth
ArcMap
ArcGIS Pro
View Footprint In:
ArcGIS Online Map Viewer
Service Description: City of Manchester NH 2018 Aerials Wide Area
Map Name: Manchester 2018 Aerials And Boundaries
Legend
All Layers and Tables
Layers:
Description:
Service Item Id: 6e25915ef2a84a018f5d321cfc32e5e1
Copyright Text: City of Manchester, NH
Spatial Reference:
102100
(3857)
Single Fused Map Cache: true
Tile Info:
- Height: 256
- Width: 256
- DPI: 96
-
Levels of Detail: 24
-
Level ID: 1
[ Start Tile, End Tile ]
- Resolution: 78271.5169639999
- Scale: 2.95828763795777E8
-
Level ID: 2
[ Start Tile, End Tile ]
- Resolution: 39135.7584820001
- Scale: 1.47914381897889E8
-
Level ID: 3
[ Start Tile, End Tile ]
- Resolution: 19567.8792409999
- Scale: 7.3957190948944E7
-
Level ID: 4
[ Start Tile, End Tile ]
- Resolution: 9783.93962049996
- Scale: 3.6978595474472E7
-
Level ID: 5
[ Start Tile, End Tile ]
- Resolution: 4891.96981024998
- Scale: 1.8489297737236E7
- Format: PNG
- Compression Quality: 0.0
- Origin: X: -2.0037508342787E7
Y: 2.0037508342787E7
- Spatial Reference: 102100
(3857)
Initial Extent:
XMin: -7972446.899529812
YMin: 5307707.095552914
XMax: -7927387.271355758
YMax: 5322153.693898793
Spatial Reference: 102100
Full Extent:
XMin: -7975084.602277456
YMin: 5280058.176933423
XMax: -7926493.2847499745
YMax: 5330626.080586688
Spatial Reference: 102100
Units: esriMeters
Supported Image Format Types: PNG32,PNG24,PNG,JPG,DIB,TIFF,EMF,PS,PDF,GIF,SVG,SVGZ,BMP
Document Info:
Title:
Author:
Comments: City of Manchester NH 2018 Aerials Wide Area
Subject: City of Manchester NH 2018 Aerials Wide Area
Category:
Keywords: Manchester,NH,2018,Aerials
AntialiasingMode: None
TextAntialiasingMode: Force
Supports Dynamic Layers: false
MaxRecordCount: 1000
MaxImageHeight: 4096
MaxImageWidth: 4096
Supported Query Formats: JSON, geoJSON
Supports Query Data Elements:
Min Scale: 577790.554289
Max Scale: 141.062147
Min LOD: 1
Max LOD: 23
Supports Datum Transformation: true
Child Resources:
Info
Supported Operations:
Export Map
Return Updates